Name | Last modified | Size | Description | |
---|---|---|---|---|
Parent Directory | - | |||
buildsrc-out.txt | 20-Oct-2022 02:20 | 4.2K | ||
buildsrc-summary.dcf | 20-Oct-2022 02:20 | 331 | ||
checksrc-out.txt | 18-Oct-2022 02:20 | 34K | ||
checksrc-summary.dcf | 18-Oct-2022 02:20 | 424 | ||
install-out.txt | 20-Oct-2022 02:20 | 1.1K | ||
install-summary.dcf | 20-Oct-2022 02:20 | 256 | ||