Name | Last modified | Size | Description | |
---|---|---|---|---|
Parent Directory | - | |||
buildbin-out.txt | 19-Mar-2022 00:07 | 14K | ||
buildbin-summary.dcf | 19-Mar-2022 00:07 | 514 | ||
buildsrc-out.txt | 19-Mar-2022 00:07 | 931 | ||
buildsrc-summary.dcf | 19-Mar-2022 00:07 | 452 | ||
checksrc-out.txt | 19-Mar-2022 00:07 | 7.2K | ||
checksrc-summary.dcf | 19-Mar-2022 00:07 | 447 | ||
install-out.txt | 19-Mar-2022 00:07 | 14K | ||
install-summary.dcf | 19-Mar-2022 00:07 | 269 | ||