Back to Multiple platform build/check report for BioC 3.15
ABCDEF[G]HIJKLMNOPQRSTUVWXYZ

This page was generated on 2022-08-15 13:21:32 -0400 (Mon, 15 Aug 2022).

HostnameOSArch (*)R versionInstalled pkgs
nebbiolo1Linux (Ubuntu 20.04.4 LTS)x86_644.2.1 (2022-06-23) -- "Funny-Looking Kid" 4365
palomino3Windows Server 2022 Datacenterx644.2.1 (2022-06-23 ucrt) -- "Funny-Looking Kid" 4118
merida1macOS 10.14.6 Mojavex86_644.2.1 (2022-06-23) -- "Funny-Looking Kid" 4183
Click on any hostname to see more info about the system (e.g. compilers)      (*) as reported by 'uname -p', except on Windows and Mac OS X

INSTALL results for GRENITS on palomino3


To the developers/maintainers of the GRENITS package:
- Please allow up to 24 hours (and sometimes 48 hours) for your latest push to git@git.bioconductor.org:packages/GRENITS.git to
reflect on this report. See How and When does the builder pull? When will my changes propagate? for more information.
- Make sure to use the following settings in order to reproduce any error or warning you see on this page.

raw results

Package 847/2140HostnameOS / ArchINSTALLBUILDCHECKBUILD BIN
GRENITS 1.48.0  (landing page)
Edward Morrissey
Snapshot Date: 2022-08-14 13:55:13 -0400 (Sun, 14 Aug 2022)
git_url: https://git.bioconductor.org/packages/GRENITS
git_branch: RELEASE_3_15
git_last_commit: be1c0c1
git_last_commit_date: 2022-04-26 11:08:22 -0400 (Tue, 26 Apr 2022)
nebbiolo1Linux (Ubuntu 20.04.4 LTS) / x86_64  OK    OK    OK  UNNEEDED, same version is already published
palomino3Windows Server 2022 Datacenter / x64  OK    OK    OK    OK  UNNEEDED, same version is already published
merida1macOS 10.14.6 Mojave / x86_64  OK    OK    OK    OK  UNNEEDED, same version is already published

Summary

Package: GRENITS
Version: 1.48.0
Command: F:\biocbuild\bbs-3.15-bioc\R\bin\R.exe CMD INSTALL GRENITS
StartedAt: 2022-08-14 15:46:02 -0400 (Sun, 14 Aug 2022)
EndedAt: 2022-08-14 15:48:10 -0400 (Sun, 14 Aug 2022)
EllapsedTime: 128.2 seconds
RetCode: 0
Status:   OK  

Command output

##############################################################################
##############################################################################
###
### Running command:
###
###   F:\biocbuild\bbs-3.15-bioc\R\bin\R.exe CMD INSTALL GRENITS
###
##############################################################################
##############################################################################


* installing to library 'F:/biocbuild/bbs-3.15-bioc/R/library'
* installing *source* package 'GRENITS' ...
** using staged installation
** libs
g++ -std=gnu++11  -I"F:/biocbuild/bbs-3.15-bioc/R/include" -DNDEBUG  -I'F:/biocbuild/bbs-3.15-bioc/R/library/Rcpp/include' -I'F:/biocbuild/bbs-3.15-bioc/R/library/RcppArmadillo/include'   -I"C:/rtools42/x86_64-w64-mingw32.static.posix/include"     -O2 -Wall  -mfpmath=sse -msse2 -mstackrealign  -c AR1_Gauss_biocond.cc -o AR1_Gauss_biocond.o
AR1_Gauss_biocond.cc: In function 'void Error_Gauss_c(std::string&, arma::mat&, arma::colvec&, arma::mat&)':
AR1_Gauss_biocond.cc:49:30: warning: unused variable 'numDiag' [-Wunused-variable]
   49 |   int           num_fixedON, numDiag, p_sqr, free_gammas;
      |                              ^~~~~~~
AR1_Gauss_biocond.cc:49:39: warning: variable 'p_sqr' set but not used [-Wunused-but-set-variable]
   49 |   int           num_fixedON, numDiag, p_sqr, free_gammas;
      |                                       ^~~~~
g++ -std=gnu++11  -I"F:/biocbuild/bbs-3.15-bioc/R/include" -DNDEBUG  -I'F:/biocbuild/bbs-3.15-bioc/R/library/Rcpp/include' -I'F:/biocbuild/bbs-3.15-bioc/R/library/RcppArmadillo/include'   -I"C:/rtools42/x86_64-w64-mingw32.static.posix/include"     -O2 -Wall  -mfpmath=sse -msse2 -mstackrealign  -c AR1_Student_biocond.cc -o AR1_Student_biocond.o
AR1_Student_biocond.cc: In function 'void Error_Student_c(std::string&, arma::mat&, arma::colvec&, arma::mat&)':
AR1_Student_biocond.cc:49:30: warning: unused variable 'numDiag' [-Wunused-variable]
   49 |   int           num_fixedON, numDiag, p_sqr, free_gammas;
      |                              ^~~~~~~
AR1_Student_biocond.cc:49:39: warning: variable 'p_sqr' set but not used [-Wunused-but-set-variable]
   49 |   int           num_fixedON, numDiag, p_sqr, free_gammas;
      |                                       ^~~~~
g++ -std=gnu++11  -I"F:/biocbuild/bbs-3.15-bioc/R/include" -DNDEBUG  -I'F:/biocbuild/bbs-3.15-bioc/R/library/Rcpp/include' -I'F:/biocbuild/bbs-3.15-bioc/R/library/RcppArmadillo/include'   -I"C:/rtools42/x86_64-w64-mingw32.static.posix/include"     -O2 -Wall  -mfpmath=sse -msse2 -mstackrealign  -c AR1_biocond.cc -o AR1_biocond.o
AR1_biocond.cc: In function 'void AR1_c(std::string&, arma::mat&, arma::colvec&, arma::mat&)':
AR1_biocond.cc:48:30: warning: unused variable 'numDiag' [-Wunused-variable]
   48 |   int           num_fixedON, numDiag, p_sqr, free_gammas;
      |                              ^~~~~~~
AR1_biocond.cc:48:39: warning: variable 'p_sqr' set but not used [-Wunused-but-set-variable]
   48 |   int           num_fixedON, numDiag, p_sqr, free_gammas;
      |                                       ^~~~~
g++ -std=gnu++11  -I"F:/biocbuild/bbs-3.15-bioc/R/include" -DNDEBUG  -I'F:/biocbuild/bbs-3.15-bioc/R/library/Rcpp/include' -I'F:/biocbuild/bbs-3.15-bioc/R/library/RcppArmadillo/include'   -I"C:/rtools42/x86_64-w64-mingw32.static.posix/include"     -O2 -Wall  -mfpmath=sse -msse2 -mstackrealign  -c PSplines_biocond.cc -o PSplines_biocond.o
PSplines_biocond.cc: In function 'void PSplines_c(std::string&, arma::mat&, arma::colvec&, arma::mat&)':
PSplines_biocond.cc:45:63: warning: unused variable 'numDiag' [-Wunused-variable]
   45 |   int                 num_fixedON, nodesSpline, degreeSpline, numDiag, free_gammas;
      |                                                               ^~~~~~~
g++ -std=gnu++11  -I"F:/biocbuild/bbs-3.15-bioc/R/include" -DNDEBUG  -I'F:/biocbuild/bbs-3.15-bioc/R/library/Rcpp/include' -I'F:/biocbuild/bbs-3.15-bioc/R/library/RcppArmadillo/include'   -I"C:/rtools42/x86_64-w64-mingw32.static.posix/include"     -O2 -Wall  -mfpmath=sse -msse2 -mstackrealign  -c R_C_interface.cpp -o R_C_interface.o
g++ -std=gnu++11  -I"F:/biocbuild/bbs-3.15-bioc/R/include" -DNDEBUG  -I'F:/biocbuild/bbs-3.15-bioc/R/library/Rcpp/include' -I'F:/biocbuild/bbs-3.15-bioc/R/library/RcppArmadillo/include'   -I"C:/rtools42/x86_64-w64-mingw32.static.posix/include"     -O2 -Wall  -mfpmath=sse -msse2 -mstackrealign  -c ReadMCMCFiles.cpp -o ReadMCMCFiles.o
g++ -std=gnu++11  -I"F:/biocbuild/bbs-3.15-bioc/R/include" -DNDEBUG  -I'F:/biocbuild/bbs-3.15-bioc/R/library/Rcpp/include' -I'F:/biocbuild/bbs-3.15-bioc/R/library/RcppArmadillo/include'   -I"C:/rtools42/x86_64-w64-mingw32.static.posix/include"     -O2 -Wall  -mfpmath=sse -msse2 -mstackrealign  -c commonFunctions.cc -o commonFunctions.o
commonFunctions.cc: In function 'void random_intSequence(arma::ucolvec&)':
commonFunctions.cc:268:21: warning: comparison of integer expressions of different signedness: 'int' and 'const uword' {aka 'const unsigned int'} [-Wsign-compare]
  268 |   for (int i = 0; i < seq.n_elem; i++)
      |                   ~~^~~~~~~~~~~~
commonFunctions.cc: In function 'void estimateRemainingTime(double&, double&, int, int, clock_t&)':
commonFunctions.cc:315:36: warning: variable 'so_far_clock' set but not used [-Wunused-but-set-variable]
  315 |   clock_t                          so_far_clock, time_now; //so_far_sec,
      |                                    ^~~~~~~~~~~~
commonFunctions.cc: In function 'void processFixedGammas(arma::mat&, int&, int&, arma::umat&, arma::umat&, arma::ucolvec&, arma::umat&, arma::uvec&, arma::uvec&)':
commonFunctions.cc:375:19: warning: comparison of integer expressions of different signedness: 'int' and 'const uword' {aka 'const unsigned int'} [-Wsign-compare]
  375 |   for(int i = 0; i!=Gamma_fixed.n_cols;i++)
      |                  ~^~~~~~~~~~~~~~~~~~~~
commonFunctions.cc:378:21: warning: comparison of integer expressions of different signedness: 'int' and 'const uword' {aka 'const unsigned int'} [-Wsign-compare]
  378 |     for(int j = 0; j!=Gamma_fixed.n_cols;j++)
      |                    ~^~~~~~~~~~~~~~~~~~~~
commonFunctions.cc: In function 'void updateCoefficients_reg(arma::mat&, const int&, const urowvec&, const mat&, const rowvec&, const ucolvec&)':
commonFunctions.cc:438:59: warning: unused variable 'num_on' [-Wunused-variable]
  438 |   unsigned int                                            num_on;
      |                                                           ^~~~~~
commonFunctions.cc: In function 'void updateCoefficients(arma::mat&, const int&, const urowvec&, const mat&, const rowvec&)':
commonFunctions.cc:480:59: warning: unused variable 'num_on' [-Wunused-variable]
  480 |   unsigned int                                            num_on;
      |                                                           ^~~~~~
g++ -std=gnu++11  -I"F:/biocbuild/bbs-3.15-bioc/R/include" -DNDEBUG  -I'F:/biocbuild/bbs-3.15-bioc/R/library/Rcpp/include' -I'F:/biocbuild/bbs-3.15-bioc/R/library/RcppArmadillo/include'   -I"C:/rtools42/x86_64-w64-mingw32.static.posix/include"     -O2 -Wall  -mfpmath=sse -msse2 -mstackrealign  -c functionsErrorModel.cc -o functionsErrorModel.o
g++ -std=gnu++11  -I"F:/biocbuild/bbs-3.15-bioc/R/include" -DNDEBUG  -I'F:/biocbuild/bbs-3.15-bioc/R/library/Rcpp/include' -I'F:/biocbuild/bbs-3.15-bioc/R/library/RcppArmadillo/include'   -I"C:/rtools42/x86_64-w64-mingw32.static.posix/include"     -O2 -Wall  -mfpmath=sse -msse2 -mstackrealign  -c matrixManipulationFunctions.cc -o matrixManipulationFunctions.o
g++ -std=gnu++11  -I"F:/biocbuild/bbs-3.15-bioc/R/include" -DNDEBUG  -I'F:/biocbuild/bbs-3.15-bioc/R/library/Rcpp/include' -I'F:/biocbuild/bbs-3.15-bioc/R/library/RcppArmadillo/include'   -I"C:/rtools42/x86_64-w64-mingw32.static.posix/include"     -O2 -Wall  -mfpmath=sse -msse2 -mstackrealign  -c updateFunctions_AR1.cc -o updateFunctions_AR1.o
updateFunctions_AR1.cc: In function 'void updateCoeffAndGibbsVars(arma::mat&, arma::umat&, const colvec&, const mat&, const mat&, const mat&, const double&, const unsigned int&)':
updateFunctions_AR1.cc:128:34: warning: comparison of integer expressions of different signedness: 'int' and 'const unsigned int' [-Wsign-compare]
  128 |       for(int j_loop = 0; j_loop < genes; j_loop++)
      |                           ~~~~~~~^~~~~~~
updateFunctions_AR1.cc:134:8: warning: comparison of integer expressions of different signedness: 'unsigned int' and 'int' [-Wsign-compare]
  134 |  if (i != j)
      |      ~~^~~~
updateFunctions_AR1.cc: In function 'void updateCoeffAndGibbsVars_reg(arma::mat&, arma::umat&, const colvec&, const mat&, const mat&, double, const double&, const unsigned int&, arma::umat&, arma::ucolvec&, arma::umat&)':
updateFunctions_AR1.cc:186:34: warning: comparison of integer expressions of different signedness: 'int' and 'const uword' {aka 'const unsigned int'} [-Wsign-compare]
  186 |       for(int j_loop = 0; j_loop < seq_rnd.n_elem; j_loop++)
      |                           ~~~~~~~^~~~~~~~~~~~~~~~
updateFunctions_AR1.cc: In function 'void calc_logMVPDF_withLinks(double&, const mat&, const rowvec&, arma::urowvec&)':
updateFunctions_AR1.cc:264:59: warning: unused variable 'num_on' [-Wunused-variable]
  264 |   unsigned int                                            num_on;
      |                                                           ^~~~~~
g++ -std=gnu++11  -I"F:/biocbuild/bbs-3.15-bioc/R/include" -DNDEBUG  -I'F:/biocbuild/bbs-3.15-bioc/R/library/Rcpp/include' -I'F:/biocbuild/bbs-3.15-bioc/R/library/RcppArmadillo/include'   -I"C:/rtools42/x86_64-w64-mingw32.static.posix/include"     -O2 -Wall  -mfpmath=sse -msse2 -mstackrealign  -c updateFunctions_Splines.cc -o updateFunctions_Splines.o
updateFunctions_Splines.cc: In function 'void initBasesOn_rowvec(arma::urowvec&, const urowvec&, int, int)':
updateFunctions_Splines.cc:158:16: warning: variable 'start_indx' set but not used [-Wunused-but-set-variable]
  158 |   int       G, start_indx, end_indx;
      |                ^~~~~~~~~~
updateFunctions_Splines.cc:158:28: warning: variable 'end_indx' set but not used [-Wunused-but-set-variable]
  158 |   int       G, start_indx, end_indx;
      |                            ^~~~~~~~
updateFunctions_Splines.cc: In function 'void initBasesOn(arma::urowvec&, const umat&, int, int)':
updateFunctions_Splines.cc:182:16: warning: variable 'start_indx' set but not used [-Wunused-but-set-variable]
  182 |   int       G, start_indx, end_indx;
      |                ^~~~~~~~~~
updateFunctions_Splines.cc:182:28: warning: variable 'end_indx' set but not used [-Wunused-but-set-variable]
  182 |   int       G, start_indx, end_indx;
      |                            ^~~~~~~~
updateFunctions_Splines.cc: In function 'void updateTaus_reg(arma::mat&, arma::colvec&, const mat&, arma::urowvec&, const mat&, double, double, int, double, double, double, double, int, double, arma::uvec)':
updateFunctions_Splines.cc:296:10: warning: comparison of integer expressions of different signedness: 'int' and 'unsigned int' [-Wsign-compare]
  296 |     if(i == indxReg)
      |        ~~^~~~~~~~~~
updateFunctions_Splines.cc: In function 'void updateGammaAndB_row_i_reg(arma::mat&, arma::umat&, const mat&, const rowvec&, const colvec&, int, int, int, arma::urowvec&, const ucolvec&, const urowvec&, const ucolvec&, const uvec&)':
updateFunctions_Splines.cc:478:30: warning: comparison of integer expressions of different signedness: 'int' and 'const uword' {aka 'const unsigned int'} [-Wsign-compare]
  478 |   for(int j_loop = 0; j_loop < seq_rnd.n_elem; j_loop++)
      |                       ~~~~~~~^~~~~~~~~~~~~~~~
updateFunctions_Splines.cc: In function 'void fixedBasesFromFixedRegs(arma::umat&, arma::umat&, arma::ucolvec&, int)':
updateFunctions_Splines.cc:714:30: warning: comparison of integer expressions of different signedness: 'unsigned int' and 'int' [-Wsign-compare]
  714 |       for(base_k = 0; base_k != M; base_k++)
      |                       ~~~~~~~^~~~
g++ -std=gnu++11 -shared -s -static-libgcc -o GRENITS.dll tmp.def AR1_Gauss_biocond.o AR1_Student_biocond.o AR1_biocond.o PSplines_biocond.o R_C_interface.o ReadMCMCFiles.o commonFunctions.o functionsErrorModel.o matrixManipulationFunctions.o updateFunctions_AR1.o updateFunctions_Splines.o -LF:/biocbuild/bbs-3.15-bioc/R/bin/x64 -lRlapack -LF:/biocbuild/bbs-3.15-bioc/R/bin/x64 -lRblas -lgfortran -lm -lquadmath -LC:/rtools42/x86_64-w64-mingw32.static.posix/lib/x64 -LC:/rtools42/x86_64-w64-mingw32.static.posix/lib -LF:/biocbuild/bbs-3.15-bioc/R/bin/x64 -lR
installing to F:/biocbuild/bbs-3.15-bioc/R/library/00LOCK-GRENITS/00new/GRENITS/libs/x64
** R
** data
** inst
** byte-compile and prepare package for lazy loading
** help
*** installing help indices
** building package indices
** installing vignettes
** testing if installed package can be loaded from temporary location
** testing if installed package can be loaded from final location
** testing if installed package keeps a record of temporary installation path
* DONE (GRENITS)