Name | Last modified | Size | Description | |
---|---|---|---|---|
Parent Directory | - | |||
buildbin-summary.dcf | 20-Oct-2022 02:23 | 554 | ||
buildbin-out.txt | 20-Oct-2022 02:23 | 2.7K | ||
checksrc-summary.dcf | 20-Oct-2022 02:23 | 459 | ||
checksrc-out.txt | 20-Oct-2022 02:23 | 5.4K | ||
buildsrc-summary.dcf | 20-Oct-2022 02:23 | 439 | ||
buildsrc-out.txt | 20-Oct-2022 02:23 | 925 | ||
install-summary.dcf | 20-Oct-2022 02:23 | 277 | ||
install-out.txt | 20-Oct-2022 02:23 | 1.8K | ||