Index of /checkResults/3.15/bioc-LATEST/GOpro/raw-results/nebbiolo1

[ICO]NameLast modifiedSizeDescription

[DIR]Parent Directory  -  
[TXT]buildsrc-out.txt02-Jul-2022 01:05 1.1K 
[   ]buildsrc-summary.dcf02-Jul-2022 01:05 411  
[TXT]checksrc-out.txt02-Jul-2022 01:05 3.5K 
[   ]checksrc-summary.dcf02-Jul-2022 01:05 416  
[TXT]install-out.txt02-Jul-2022 01:05 3.9K 
[   ]install-summary.dcf02-Jul-2022 01:05 255