Index of /checkResults/3.15/bioc-LATEST/GOpro/raw-results/merida1

[ICO]NameLast modifiedSizeDescription

[DIR]Parent Directory  -  
[TXT]buildbin-out.txt02-Jul-2022 01:08 3.3K 
[   ]buildbin-summary.dcf02-Jul-2022 01:08 518  
[TXT]buildsrc-out.txt02-Jul-2022 01:08 1.1K 
[   ]buildsrc-summary.dcf02-Jul-2022 01:08 419  
[TXT]checksrc-out.txt02-Jul-2022 01:08 3.5K 
[   ]checksrc-summary.dcf02-Jul-2022 01:08 436  
[TXT]install-out.txt02-Jul-2022 01:08 2.5K 
[   ]install-summary.dcf02-Jul-2022 01:08 265