Name | Last modified | Size | Description | |
---|---|---|---|---|
Parent Directory | - | |||
install-summary.dcf | 19-Mar-2022 00:07 | 280 | ||
install-out.txt | 19-Mar-2022 00:07 | 1.7K | ||
checksrc-summary.dcf | 19-Mar-2022 00:07 | 470 | ||
checksrc-out.txt | 19-Mar-2022 00:07 | 2.9K | ||
buildsrc-summary.dcf | 19-Mar-2022 00:07 | 476 | ||
buildsrc-out.txt | 19-Mar-2022 00:07 | 869 | ||
buildbin-summary.dcf | 19-Mar-2022 00:07 | 549 | ||
buildbin-out.txt | 19-Mar-2022 00:07 | 1.5K | ||