Name | Last modified | Size | Description | |
---|---|---|---|---|
Parent Directory | - | |||
buildbin-out.txt | 19-Mar-2022 00:07 | 1.6K | ||
buildbin-summary.dcf | 19-Mar-2022 00:07 | 519 | ||
buildsrc-out.txt | 19-Mar-2022 00:07 | 844 | ||
buildsrc-summary.dcf | 19-Mar-2022 00:07 | 456 | ||
checksrc-out.txt | 19-Mar-2022 00:07 | 3.3K | ||
checksrc-summary.dcf | 19-Mar-2022 00:07 | 450 | ||
install-out.txt | 19-Mar-2022 00:07 | 1.5K | ||
install-summary.dcf | 19-Mar-2022 00:07 | 270 | ||