Index of /checkResults/3.15/bioc-LATEST/GAPGOM/raw-results/palomino3
Name
Last modified
Size
Description
Parent Directory
-
buildsrc-out.txt
20-Oct-2022 02:21
2.3K
buildsrc-summary.dcf
20-Oct-2022 02:21
365
install-out.txt
20-Oct-2022 02:21
1.0K
install-summary.dcf
20-Oct-2022 02:21
266