Back to Multiple platform build/check report for BioC 3.15
ABCDE[F]GHIJKLMNOPQRSTUVWXYZ

This page was generated on 2022-05-13 12:47:58 -0400 (Fri, 13 May 2022).

HostnameOSArch (*)R versionInstalled pkgs
nebbiolo1Linux (Ubuntu 20.04.4 LTS)x86_644.2.0 (2022-04-22) -- "Vigorous Calisthenics" 4344
palomino3Windows Server 2022 Datacenterx644.2.0 (2022-04-22 ucrt) -- "Vigorous Calisthenics" 4151
merida1macOS 10.14.6 Mojavex86_644.2.0 (2022-04-22) -- "Vigorous Calisthenics" 4183
Click on any hostname to see more info about the system (e.g. compilers)      (*) as reported by 'uname -p', except on Windows and Mac OS X

BUILD results for FlowSOM on merida1


To the developers/maintainers of the FlowSOM package:
- Please allow up to 24 hours (and sometimes 48 hours) for your latest push to git@git.bioconductor.org:packages/FlowSOM.git to
reflect on this report. See How and When does the builder pull? When will my changes propagate? for more information.
- Make sure to use the following settings in order to reproduce any error or warning you see on this page.

raw results

Package 691/2140HostnameOS / ArchINSTALLBUILDCHECKBUILD BIN
FlowSOM 2.4.0  (landing page)
Sofie Van Gassen
Snapshot Date: 2022-05-12 13:55:13 -0400 (Thu, 12 May 2022)
git_url: https://git.bioconductor.org/packages/FlowSOM
git_branch: RELEASE_3_15
git_last_commit: bf61833
git_last_commit_date: 2022-04-26 11:23:11 -0400 (Tue, 26 Apr 2022)
nebbiolo1Linux (Ubuntu 20.04.4 LTS) / x86_64  OK    OK    OK  UNNEEDED, same version is already published
palomino3Windows Server 2022 Datacenter / x64  OK    OK    ERROR    OK  
merida1macOS 10.14.6 Mojave / x86_64  OK    OK    OK    OK  UNNEEDED, same version is already published

Summary

Package: FlowSOM
Version: 2.4.0
Command: /Library/Frameworks/R.framework/Resources/bin/R CMD build --keep-empty-dirs --no-resave-data FlowSOM
StartedAt: 2022-05-12 18:25:27 -0400 (Thu, 12 May 2022)
EndedAt: 2022-05-12 18:28:36 -0400 (Thu, 12 May 2022)
EllapsedTime: 189.7 seconds
RetCode: 0
Status:   OK  
PackageFile: FlowSOM_2.4.0.tar.gz
PackageFileSize: 5.797 MiB

Command output

##############################################################################
##############################################################################
###
### Running command:
###
###   /Library/Frameworks/R.framework/Resources/bin/R CMD build --keep-empty-dirs --no-resave-data FlowSOM
###
##############################################################################
##############################################################################


* checking for file ‘FlowSOM/DESCRIPTION’ ... OK
* preparing ‘FlowSOM’:
* checking DESCRIPTION meta-information ... OK
* cleaning src
* installing the package to build vignettes
* creating vignettes ... OK
* cleaning src
* checking for LF line-endings in source and make files and shell scripts
* checking for empty or unneeded directories
Omitted ‘LazyData’ from DESCRIPTION
* building ‘FlowSOM_2.4.0.tar.gz’