Index of /checkResults/3.15/bioc-LATEST/FRASER/raw-results/palomino3

[ICO]NameLast modifiedSizeDescription

[DIR]Parent Directory  -  
[TXT]buildbin-out.txt16-Aug-2022 02:21 2.3K 
[   ]buildbin-summary.dcf16-Aug-2022 02:21 507  
[TXT]buildsrc-out.txt16-Aug-2022 02:21 865  
[   ]buildsrc-summary.dcf16-Aug-2022 02:21 447  
[TXT]checksrc-out.txt16-Aug-2022 02:21 4.5K 
[   ]checksrc-summary.dcf16-Aug-2022 02:21 441  
[TXT]install-out.txt16-Aug-2022 02:21 2.1K 
[   ]install-summary.dcf16-Aug-2022 02:21 266