Index of /checkResults/3.15/bioc-LATEST/FRASER/raw-results/merida1

[ICO]NameLast modifiedSizeDescription

[DIR]Parent Directory  -  
[TXT]buildbin-out.txt11-Aug-2022 04:40 3.7K 
[   ]buildbin-summary.dcf11-Aug-2022 04:40 522  
[TXT]buildsrc-out.txt11-Aug-2022 04:40 841  
[   ]buildsrc-summary.dcf11-Aug-2022 04:40 423  
[TXT]checksrc-out.txt11-Aug-2022 04:40 4.2K 
[   ]checksrc-summary.dcf11-Aug-2022 04:40 439  
[TXT]install-out.txt11-Aug-2022 04:40 2.5K 
[   ]install-summary.dcf11-Aug-2022 04:40 267