Name | Last modified | Size | Description | |
---|---|---|---|---|
Parent Directory | - | |||
buildbin-out.txt | 20-Oct-2022 02:21 | 6.7K | ||
buildbin-summary.dcf | 20-Oct-2022 02:21 | 505 | ||
buildsrc-out.txt | 20-Oct-2022 02:21 | 943 | ||
buildsrc-summary.dcf | 20-Oct-2022 02:21 | 447 | ||
checksrc-out.txt | 20-Oct-2022 02:21 | 5.7K | ||
checksrc-summary.dcf | 20-Oct-2022 02:21 | 441 | ||
install-out.txt | 20-Oct-2022 02:21 | 9.1K | ||
install-summary.dcf | 20-Oct-2022 02:21 | 266 | ||