Name | Last modified | Size | Description | |
---|---|---|---|---|
Parent Directory | - | |||
buildbin-out.txt | 19-Mar-2022 00:07 | 2.7K | ||
buildbin-summary.dcf | 19-Mar-2022 00:07 | 500 | ||
buildsrc-out.txt | 19-Mar-2022 00:07 | 1.0K | ||
buildsrc-summary.dcf | 19-Mar-2022 00:07 | 442 | ||
checksrc-out.txt | 19-Mar-2022 00:07 | 4.9K | ||
checksrc-summary.dcf | 19-Mar-2022 00:07 | 437 | ||
install-out.txt | 19-Mar-2022 00:07 | 2.8K | ||
install-summary.dcf | 19-Mar-2022 00:07 | 263 | ||