Name | Last modified | Size | Description | |
---|---|---|---|---|
Parent Directory | - | |||
install-summary.dcf | 19-Mar-2022 00:07 | 279 | ||
checksrc-summary.dcf | 19-Mar-2022 00:07 | 469 | ||
buildsrc-summary.dcf | 19-Mar-2022 00:07 | 474 | ||
buildbin-summary.dcf | 19-Mar-2022 00:07 | 548 | ||
buildsrc-out.txt | 19-Mar-2022 00:07 | 868 | ||
install-out.txt | 19-Mar-2022 00:07 | 1.2K | ||
buildbin-out.txt | 19-Mar-2022 00:07 | 1.3K | ||
checksrc-out.txt | 19-Mar-2022 00:07 | 3.3K | ||