Name | Last modified | Size | Description | |
---|---|---|---|---|
Parent Directory | - | |||
install-summary.dcf | 19-Mar-2022 00:07 | 296 | ||
checksrc-summary.dcf | 19-Mar-2022 00:07 | 502 | ||
buildsrc-summary.dcf | 19-Mar-2022 00:07 | 507 | ||
buildbin-summary.dcf | 19-Mar-2022 00:07 | 599 | ||
buildsrc-out.txt | 19-Mar-2022 00:07 | 909 | ||
install-out.txt | 19-Mar-2022 00:07 | 1.3K | ||
buildbin-out.txt | 19-Mar-2022 00:07 | 1.5K | ||
checksrc-out.txt | 19-Mar-2022 00:07 | 3.8K | ||