Name | Last modified | Size | Description | |
---|---|---|---|---|
Parent Directory | - | |||
install-summary.dcf | 19-Mar-2022 00:07 | 270 | ||
install-out.txt | 19-Mar-2022 00:07 | 2.2K | ||
checksrc-summary.dcf | 19-Mar-2022 00:07 | 450 | ||
checksrc-out.txt | 19-Mar-2022 00:07 | 4.7K | ||
buildsrc-summary.dcf | 19-Mar-2022 00:07 | 456 | ||
buildsrc-out.txt | 19-Mar-2022 00:07 | 881 | ||
buildbin-summary.dcf | 19-Mar-2022 00:07 | 521 | ||
buildbin-out.txt | 19-Mar-2022 00:07 | 2.1K | ||