Name | Last modified | Size | Description | |
---|---|---|---|---|
Parent Directory | - | |||
buildbin-out.txt | 20-Oct-2022 02:22 | 1.2K | ||
buildbin-summary.dcf | 20-Oct-2022 02:22 | 536 | ||
buildsrc-out.txt | 20-Oct-2022 02:22 | 860 | ||
buildsrc-summary.dcf | 20-Oct-2022 02:22 | 430 | ||
checksrc-out.txt | 20-Oct-2022 02:22 | 5.1K | ||
checksrc-summary.dcf | 20-Oct-2022 02:22 | 448 | ||
install-out.txt | 20-Oct-2022 02:22 | 1.0K | ||
install-summary.dcf | 20-Oct-2022 02:22 | 271 | ||