Back to Multiple platform build/check report for BioC 3.15
ABCD[E]FGHIJKLMNOPQRSTUVWXYZ

This page was generated on 2022-05-23 12:05:11 -0400 (Mon, 23 May 2022).

HostnameOSArch (*)R versionInstalled pkgs
nebbiolo1Linux (Ubuntu 20.04.4 LTS)x86_644.2.0 (2022-04-22) -- "Vigorous Calisthenics" 4380
palomino3Windows Server 2022 Datacenterx644.2.0 (2022-04-22 ucrt) -- "Vigorous Calisthenics" 4155
merida1macOS 10.14.6 Mojavex86_644.2.0 (2022-04-22) -- "Vigorous Calisthenics" 4221
Click on any hostname to see more info about the system (e.g. compilers)      (*) as reported by 'uname -p', except on Windows and Mac OS X

CHECK results for EMDomics on nebbiolo1


To the developers/maintainers of the EMDomics package:
- Please allow up to 24 hours (and sometimes 48 hours) for your latest push to git@git.bioconductor.org:packages/EMDomics.git to
reflect on this report. See How and When does the builder pull? When will my changes propagate? for more information.
- Make sure to use the following settings in order to reproduce any error or warning you see on this page.

raw results

Package 593/2140HostnameOS / ArchINSTALLBUILDCHECKBUILD BIN
EMDomics 2.26.0  (landing page)
Sadhika Malladi and Daniel Schmolze
Snapshot Date: 2022-05-22 13:55:15 -0400 (Sun, 22 May 2022)
git_url: https://git.bioconductor.org/packages/EMDomics
git_branch: RELEASE_3_15
git_last_commit: 936b0bb
git_last_commit_date: 2022-04-26 11:25:29 -0400 (Tue, 26 Apr 2022)
nebbiolo1Linux (Ubuntu 20.04.4 LTS) / x86_64  OK    OK    OK  UNNEEDED, same version is already published
palomino3Windows Server 2022 Datacenter / x64  OK    OK    OK    OK  UNNEEDED, same version is already published
merida1macOS 10.14.6 Mojave / x86_64  OK    OK    OK    OK  UNNEEDED, same version is already published

Summary

Package: EMDomics
Version: 2.26.0
Command: /home/biocbuild/bbs-3.15-bioc/R/bin/R CMD check --install=check:EMDomics.install-out.txt --library=/home/biocbuild/bbs-3.15-bioc/R/library --no-vignettes --timings EMDomics_2.26.0.tar.gz
StartedAt: 2022-05-22 19:25:12 -0400 (Sun, 22 May 2022)
EndedAt: 2022-05-22 19:26:21 -0400 (Sun, 22 May 2022)
EllapsedTime: 69.0 seconds
RetCode: 0
Status:   OK  
CheckDir: EMDomics.Rcheck
Warnings: 0

Command output

##############################################################################
##############################################################################
###
### Running command:
###
###   /home/biocbuild/bbs-3.15-bioc/R/bin/R CMD check --install=check:EMDomics.install-out.txt --library=/home/biocbuild/bbs-3.15-bioc/R/library --no-vignettes --timings EMDomics_2.26.0.tar.gz
###
##############################################################################
##############################################################################


* using log directory ‘/home/biocbuild/bbs-3.15-bioc/meat/EMDomics.Rcheck’
* using R version 4.2.0 (2022-04-22)
* using platform: x86_64-pc-linux-gnu (64-bit)
* using session charset: UTF-8
* using option ‘--no-vignettes’
* checking for file ‘EMDomics/DESCRIPTION’ ... OK
* this is package ‘EMDomics’ version ‘2.26.0’
* checking package namespace information ... OK
* checking package dependencies ...Warning: unable to access index for repository https://CRAN.R-project.org/src/contrib:
  cannot open URL 'https://CRAN.R-project.org/src/contrib/PACKAGES'
 OK
* checking if this is a source package ... OK
* checking if there is a namespace ... OK
* checking for hidden files and directories ... OK
* checking for portable file names ... OK
* checking for sufficient/correct file permissions ... OK
* checking whether package ‘EMDomics’ can be installed ... OK
* checking installed package size ... OK
* checking package directory ... OK
* checking ‘build’ directory ... OK
* checking DESCRIPTION meta-information ... NOTE
Authors@R field gives more than one person with maintainer role:
  Sadhika Malladi <contact@sadhikamalladi.com> [aut, cre]
  Daniel Schmolze <emd@schmolze.com> [aut, cre]
* checking top-level files ... OK
* checking for left-over files ... OK
* checking index information ... OK
* checking package subdirectories ... OK
* checking R files for non-ASCII characters ... OK
* checking R files for syntax errors ... OK
* checking whether the package can be loaded ... OK
* checking whether the package can be loaded with stated dependencies ... OK
* checking whether the package can be unloaded cleanly ... OK
* checking whether the namespace can be loaded with stated dependencies ... OK
* checking whether the namespace can be unloaded cleanly ... OK
* checking dependencies in R code ... OK
* checking S3 generic/method consistency ... OK
* checking replacement functions ... OK
* checking foreign function calls ... OK
* checking R code for possible problems ... NOTE
.cvm_pairwise_q: no visible global function definition for ‘combn’
.cvm_pairwise_q : <anonymous>: no visible global function definition
  for ‘median’
.emd_gene_pairwise: no visible global function definition for ‘hist’
.emd_pairwise_q: no visible global function definition for ‘combn’
.emd_pairwise_q : <anonymous>: no visible global function definition
  for ‘median’
.ks_pairwise_table: no visible global function definition for ‘ks.test’
calculate_cvm: no visible global function definition for ‘combn’
calculate_cvm : <anonymous>: no visible global function definition for
  ‘median’
calculate_cvm_gene: no visible global function definition for ‘combn’
calculate_emd: no visible global function definition for ‘combn’
calculate_emd : <anonymous>: no visible global function definition for
  ‘median’
calculate_emd_gene: no visible global function definition for ‘combn’
calculate_ks: no visible global function definition for ‘combn’
calculate_ks : <anonymous>: no visible global function definition for
  ‘p.adjust’
calculate_ks : <anonymous>: no visible global function definition for
  ‘median’
calculate_ks_gene: no visible global function definition for ‘combn’
calculate_ks_gene: no visible global function definition for ‘ks.test’
Undefined global functions or variables:
  combn hist ks.test median p.adjust
Consider adding
  importFrom("graphics", "hist")
  importFrom("stats", "ks.test", "median", "p.adjust")
  importFrom("utils", "combn")
to your NAMESPACE file.
* checking Rd files ... OK
* checking Rd metadata ... OK
* checking Rd cross-references ... OK
* checking for missing documentation entries ... OK
* checking for code/documentation mismatches ... OK
* checking Rd \usage sections ... OK
* checking Rd contents ... OK
* checking for unstated dependencies in examples ... OK
* checking files in ‘vignettes’ ... OK
* checking examples ... OK
Examples with CPU (user + system) or elapsed time > 5s
                  user system elapsed
calculate_cvm    5.507  0.061   5.581
plot_cvm_density 5.379  0.038   5.417
plot_cvmperms    5.104  0.012   5.116
* checking for unstated dependencies in vignettes ... OK
* checking package vignettes in ‘inst/doc’ ... OK
* checking running R code from vignettes ... SKIPPED
* checking re-building of vignette outputs ... SKIPPED
* checking PDF version of manual ... OK
* DONE

Status: 2 NOTEs
See
  ‘/home/biocbuild/bbs-3.15-bioc/meat/EMDomics.Rcheck/00check.log’
for details.



Installation output

EMDomics.Rcheck/00install.out

##############################################################################
##############################################################################
###
### Running command:
###
###   /home/biocbuild/bbs-3.15-bioc/R/bin/R CMD INSTALL EMDomics
###
##############################################################################
##############################################################################


* installing to library ‘/home/biocbuild/bbs-3.15-bioc/R/library’
* installing *source* package ‘EMDomics’ ...
** using staged installation
** R
** byte-compile and prepare package for lazy loading
** help
*** installing help indices
** building package indices
** installing vignettes
** testing if installed package can be loaded from temporary location
** testing if installed package can be loaded from final location
** testing if installed package keeps a record of temporary installation path
* DONE (EMDomics)

Tests output


Example timings

EMDomics.Rcheck/EMDomics-Ex.timings

nameusersystemelapsed
calculate_cvm5.5070.0615.581
calculate_cvm_gene0.0050.0000.006
calculate_emd3.1310.0483.180
calculate_emd_gene0.0040.0000.004
calculate_ks3.0840.0163.099
calculate_ks_gene0.0040.0050.010
plot_cvm_density5.3790.0385.417
plot_cvmnull2.1060.0002.106
plot_cvmperms5.1040.0125.116
plot_emd_density3.0650.0243.089
plot_emdnull1.3490.0001.350
plot_emdperms3.2580.0083.266
plot_ks_density3.410.003.41
plot_ksnull1.8050.0121.817
plot_ksperms3.4260.0003.426