Name | Last modified | Size | Description | |
---|---|---|---|---|
Parent Directory | - | |||
buildbin-summary.dcf | 20-Oct-2022 02:21 | 509 | ||
buildbin-out.txt | 20-Oct-2022 02:21 | 1.1K | ||
checksrc-summary.dcf | 20-Oct-2022 02:21 | 443 | ||
checksrc-out.txt | 20-Oct-2022 02:21 | 3.7K | ||
buildsrc-summary.dcf | 20-Oct-2022 02:21 | 448 | ||
buildsrc-out.txt | 20-Oct-2022 02:21 | 894 | ||
install-out.txt | 20-Oct-2022 02:21 | 968 | ||
install-summary.dcf | 20-Oct-2022 02:21 | 266 | ||