![]() | Name | Last modified | Size | Description |
---|---|---|---|---|
![]() | Parent Directory | - | ||
![]() | install-summary.dcf | 20-Oct-2022 02:20 | 257 | |
![]() | buildsrc-summary.dcf | 20-Oct-2022 02:20 | 413 | |
![]() | checksrc-summary.dcf | 20-Oct-2022 02:20 | 420 | |
![]() | buildsrc-out.txt | 20-Oct-2022 02:20 | 865 | |
![]() | install-out.txt | 20-Oct-2022 02:20 | 952 | |
![]() | checksrc-out.txt | 20-Oct-2022 02:20 | 3.7K | |