![]() | Name | Last modified | Size | Description |
---|---|---|---|---|
![]() | Parent Directory | - | ||
![]() | install-summary.dcf | 20-Oct-2022 02:21 | 278 | |
![]() | checksrc-summary.dcf | 20-Oct-2022 02:21 | 467 | |
![]() | buildsrc-summary.dcf | 20-Oct-2022 02:21 | 473 | |
![]() | buildbin-summary.dcf | 20-Oct-2022 02:21 | 545 | |
![]() | buildsrc-out.txt | 20-Oct-2022 02:21 | 896 | |
![]() | checksrc-out.txt | 20-Oct-2022 02:21 | 4.2K | |
![]() | install-out.txt | 20-Oct-2022 02:21 | 37K | |
![]() | buildbin-out.txt | 20-Oct-2022 02:21 | 37K | |