Name | Last modified | Size | Description | |
---|---|---|---|---|
Parent Directory | - | |||
install-out.txt | 20-Oct-2022 02:20 | 37K | ||
checksrc-out.txt | 20-Oct-2022 02:20 | 4.5K | ||
buildsrc-out.txt | 20-Oct-2022 02:20 | 856 | ||
checksrc-summary.dcf | 20-Oct-2022 02:20 | 444 | ||
buildsrc-summary.dcf | 20-Oct-2022 02:20 | 432 | ||
install-summary.dcf | 20-Oct-2022 02:20 | 269 | ||