Name | Last modified | Size | Description | |
---|---|---|---|---|
Parent Directory | - | |||
buildbin-out.txt | 20-Oct-2022 02:22 | 27K | ||
install-out.txt | 20-Oct-2022 02:22 | 27K | ||
checksrc-out.txt | 20-Oct-2022 02:22 | 4.5K | ||
buildsrc-out.txt | 20-Oct-2022 02:22 | 866 | ||
buildbin-summary.dcf | 20-Oct-2022 02:22 | 561 | ||
checksrc-summary.dcf | 20-Oct-2022 02:22 | 464 | ||
buildsrc-summary.dcf | 20-Oct-2022 02:22 | 443 | ||
install-summary.dcf | 20-Oct-2022 02:22 | 280 | ||