Name | Last modified | Size | Description | |
---|---|---|---|---|
Parent Directory | - | |||
buildbin-out.txt | 20-Oct-2022 02:22 | 5.2K | ||
buildbin-summary.dcf | 20-Oct-2022 02:22 | 618 | ||
buildsrc-out.txt | 20-Oct-2022 02:22 | 937 | ||
buildsrc-summary.dcf | 20-Oct-2022 02:22 | 471 | ||
checksrc-out.txt | 20-Oct-2022 02:22 | 3.9K | ||
checksrc-summary.dcf | 20-Oct-2022 02:22 | 502 | ||
install-out.txt | 20-Oct-2022 02:22 | 3.6K | ||
install-summary.dcf | 20-Oct-2022 02:22 | 298 | ||