Name | Last modified | Size | Description | |
---|---|---|---|---|
Parent Directory | - | |||
install-summary.dcf | 20-Oct-2022 02:20 | 260 | ||
buildsrc-summary.dcf | 20-Oct-2022 02:20 | 418 | ||
checksrc-summary.dcf | 20-Oct-2022 02:20 | 425 | ||
buildsrc-out.txt | 20-Oct-2022 02:20 | 872 | ||
install-out.txt | 20-Oct-2022 02:20 | 958 | ||
checksrc-out.txt | 20-Oct-2022 02:20 | 3.3K | ||