Index of /checkResults/3.15/bioc-LATEST/DEXSeq/raw-results/nebbiolo1

[ICO]NameLast modifiedSizeDescription

[DIR]Parent Directory  -  
[TXT]buildsrc-out.txt11-Aug-2022 04:39 802  
[   ]buildsrc-summary.dcf11-Aug-2022 04:39 414  
[TXT]checksrc-out.txt11-Aug-2022 04:39 3.7K 
[   ]checksrc-summary.dcf11-Aug-2022 04:39 420  
[TXT]install-out.txt11-Aug-2022 04:39 944  
[   ]install-summary.dcf11-Aug-2022 04:39 257