Index of /checkResults/3.15/bioc-LATEST/DEXSeq/raw-results/merida1

[ICO]NameLast modifiedSizeDescription

[DIR]Parent Directory  -  
[TXT]buildbin-out.txt11-Aug-2022 04:40 1.1K 
[   ]buildbin-summary.dcf11-Aug-2022 04:40 524  
[TXT]buildsrc-out.txt11-Aug-2022 04:40 812  
[   ]buildsrc-summary.dcf11-Aug-2022 04:40 425  
[TXT]checksrc-out.txt11-Aug-2022 04:40 3.7K 
[   ]checksrc-summary.dcf11-Aug-2022 04:40 440  
[TXT]install-out.txt11-Aug-2022 04:40 1.0K 
[   ]install-summary.dcf11-Aug-2022 04:40 267