![]() | Name | Last modified | Size | Description |
---|---|---|---|---|
![]() | Parent Directory | - | ||
![]() | install-summary.dcf | 20-Oct-2022 02:20 | 263 | |
![]() | install-out.txt | 20-Oct-2022 02:20 | 961 | |
![]() | buildsrc-out.txt | 20-Oct-2022 02:20 | 877 | |
![]() | buildsrc-summary.dcf | 20-Oct-2022 02:20 | 423 | |
![]() | checksrc-out.txt | 20-Oct-2022 02:20 | 7.7K | |
![]() | checksrc-summary.dcf | 20-Oct-2022 02:20 | 432 | |