Name | Last modified | Size | Description | |
---|---|---|---|---|
Parent Directory | - | |||
buildbin-summary.dcf | 19-Mar-2022 00:07 | 569 | ||
buildbin-out.txt | 19-Mar-2022 00:07 | 3.5K | ||
checksrc-summary.dcf | 19-Mar-2022 00:07 | 483 | ||
checksrc-out.txt | 19-Mar-2022 00:07 | 4.5K | ||
buildsrc-out.txt | 19-Mar-2022 00:07 | 916 | ||
buildsrc-summary.dcf | 19-Mar-2022 00:07 | 488 | ||
install-summary.dcf | 19-Mar-2022 00:07 | 286 | ||
install-out.txt | 19-Mar-2022 00:07 | 3.4K | ||