Name | Last modified | Size | Description | |
---|---|---|---|---|
Parent Directory | - | |||
checksrc-summary.dcf | 20-Oct-2022 02:20 | 460 | ||
checksrc-out.txt | 20-Oct-2022 02:20 | 3.9K | ||
buildsrc-summary.dcf | 20-Oct-2022 02:20 | 444 | ||
buildsrc-out.txt | 20-Oct-2022 02:20 | 872 | ||
install-out.txt | 20-Oct-2022 02:20 | 1.7K | ||
install-summary.dcf | 20-Oct-2022 02:20 | 277 | ||