Name | Last modified | Size | Description | |
---|---|---|---|---|
Parent Directory | - | |||
checksrc-summary.dcf | 20-Oct-2022 02:20 | 433 | ||
checksrc-out.txt | 20-Oct-2022 02:20 | 3.0K | ||
buildsrc-summary.dcf | 20-Oct-2022 02:20 | 423 | ||
buildsrc-out.txt | 20-Oct-2022 02:20 | 817 | ||
install-summary.dcf | 20-Oct-2022 02:20 | 263 | ||
install-out.txt | 20-Oct-2022 02:20 | 956 | ||