Index of /checkResults/3.15/bioc-LATEST/CoverageView/raw-results

[ICO]NameLast modifiedSizeDescription

[DIR]Parent Directory  -  
[   ]info.dcf06-Aug-2022 03:19 282  
[DIR]merida1/06-Aug-2022 03:19 -  
[DIR]nebbiolo1/06-Aug-2022 03:19 -