Name | Last modified | Size | Description | |
---|---|---|---|---|
Parent Directory | - | |||
buildbin-out.txt | 20-Oct-2022 02:22 | 1.3K | ||
buildbin-summary.dcf | 20-Oct-2022 02:22 | 601 | ||
buildsrc-out.txt | 20-Oct-2022 02:22 | 864 | ||
buildsrc-summary.dcf | 20-Oct-2022 02:22 | 464 | ||
checksrc-out.txt | 20-Oct-2022 02:22 | 3.3K | ||
checksrc-summary.dcf | 20-Oct-2022 02:22 | 491 | ||
install-out.txt | 20-Oct-2022 02:22 | 1.1K | ||
install-summary.dcf | 20-Oct-2022 02:22 | 293 | ||