![]() | Name | Last modified | Size | Description |
---|---|---|---|---|
![]() | Parent Directory | - | ||
![]() | buildbin-out.txt | 20-Oct-2022 02:21 | 2.0K | |
![]() | buildbin-summary.dcf | 20-Oct-2022 02:21 | 530 | |
![]() | buildsrc-out.txt | 20-Oct-2022 02:21 | 945 | |
![]() | buildsrc-summary.dcf | 20-Oct-2022 02:21 | 462 | |
![]() | checksrc-out.txt | 20-Oct-2022 02:21 | 11K | |
![]() | checksrc-summary.dcf | 20-Oct-2022 02:21 | 463 | |
![]() | install-out.txt | 20-Oct-2022 02:21 | 1.8K | |
![]() | install-summary.dcf | 20-Oct-2022 02:21 | 273 | |