Name | Last modified | Size | Description | |
---|---|---|---|---|
Parent Directory | - | |||
checksrc-out.txt | 20-Oct-2022 02:20 | 10K | ||
install-out.txt | 20-Oct-2022 02:20 | 1.7K | ||
buildsrc-out.txt | 20-Oct-2022 02:20 | 910 | ||
checksrc-summary.dcf | 20-Oct-2022 02:20 | 440 | ||
buildsrc-summary.dcf | 20-Oct-2022 02:20 | 424 | ||
install-summary.dcf | 20-Oct-2022 02:20 | 264 | ||