Index of /checkResults/3.15/bioc-LATEST/ChromSCape/raw-results/nebbiolo1

[ICO]NameLast modifiedSizeDescription

[DIR]Parent Directory  -  
[TXT]buildsrc-out.txt11-Aug-2022 04:39 910  
[   ]buildsrc-summary.dcf11-Aug-2022 04:39 424  
[TXT]checksrc-out.txt11-Aug-2022 04:39 10K 
[   ]checksrc-summary.dcf11-Aug-2022 04:39 440  
[TXT]install-out.txt11-Aug-2022 04:39 1.7K 
[   ]install-summary.dcf11-Aug-2022 04:39 264