![]() | Name | Last modified | Size | Description |
---|---|---|---|---|
![]() | Parent Directory | - | ||
![]() | buildbin-out.txt | 20-Oct-2022 02:22 | 2.9K | |
![]() | buildbin-summary.dcf | 20-Oct-2022 02:22 | 546 | |
![]() | buildsrc-out.txt | 20-Oct-2022 02:22 | 920 | |
![]() | buildsrc-summary.dcf | 20-Oct-2022 02:22 | 435 | |
![]() | checksrc-out.txt | 20-Oct-2022 02:22 | 11K | |
![]() | checksrc-summary.dcf | 20-Oct-2022 02:22 | 461 | |
![]() | install-out.txt | 20-Oct-2022 02:22 | 2.0K | |
![]() | install-summary.dcf | 20-Oct-2022 02:22 | 274 | |