Name | Last modified | Size | Description | |
---|---|---|---|---|
Parent Directory | - | |||
buildbin-out.txt | 15-Mar-2022 00:06 | 5.5K | ||
install-out.txt | 19-Mar-2022 00:07 | 5.4K | ||
buildsrc-out.txt | 19-Mar-2022 00:07 | 5.2K | ||
checksrc-out.txt | 15-Mar-2022 00:06 | 3.7K | ||
buildbin-summary.dcf | 15-Mar-2022 00:06 | 546 | ||
checksrc-summary.dcf | 15-Mar-2022 00:06 | 467 | ||
buildsrc-summary.dcf | 19-Mar-2022 00:07 | 384 | ||
install-summary.dcf | 19-Mar-2022 00:07 | 279 | ||