Name | Last modified | Size | Description | |
---|---|---|---|---|
Parent Directory | - | |||
checksrc-out.txt | 19-Mar-2022 00:07 | 3.3K | ||
buildbin-out.txt | 19-Mar-2022 00:07 | 2.0K | ||
install-out.txt | 19-Mar-2022 00:07 | 1.9K | ||
buildsrc-out.txt | 19-Mar-2022 00:07 | 1.2K | ||
buildbin-summary.dcf | 19-Mar-2022 00:07 | 538 | ||
buildsrc-summary.dcf | 19-Mar-2022 00:07 | 469 | ||
checksrc-summary.dcf | 19-Mar-2022 00:07 | 463 | ||
install-summary.dcf | 19-Mar-2022 00:07 | 277 | ||