Index of /checkResults/3.15/bioc-LATEST/ChAMP/raw-results/palomino3

[ICO]NameLast modifiedSizeDescription

[DIR]Parent Directory  -  
[TXT]buildbin-out.txt04-Aug-2022 02:21 5.2K 
[   ]buildbin-summary.dcf04-Aug-2022 02:21 504  
[TXT]buildsrc-out.txt04-Aug-2022 02:21 866  
[   ]buildsrc-summary.dcf04-Aug-2022 02:21 444  
[TXT]checksrc-out.txt04-Aug-2022 02:21 6.1K 
[   ]checksrc-summary.dcf04-Aug-2022 02:21 445  
[TXT]install-out.txt04-Aug-2022 02:21 5.1K 
[   ]install-summary.dcf04-Aug-2022 02:21 264