Index of /checkResults/3.15/bioc-LATEST/ChAMP/raw-results/nebbiolo1

[ICO]NameLast modifiedSizeDescription

[DIR]Parent Directory  -  
[TXT]buildsrc-out.txt11-Aug-2022 04:39 838  
[   ]buildsrc-summary.dcf11-Aug-2022 04:39 412  
[TXT]checksrc-out.txt11-Aug-2022 04:39 6.0K 
[   ]checksrc-summary.dcf11-Aug-2022 04:39 422  
[TXT]install-out.txt11-Aug-2022 04:39 5.0K 
[   ]install-summary.dcf11-Aug-2022 04:39 255