Name | Last modified | Size | Description | |
---|---|---|---|---|
Parent Directory | - | |||
buildsrc-out.txt | 20-Oct-2022 02:20 | 798 | ||
buildsrc-summary.dcf | 20-Oct-2022 02:20 | 410 | ||
checksrc-out.txt | 20-Oct-2022 02:20 | 3.5K | ||
checksrc-summary.dcf | 20-Oct-2022 02:20 | 416 | ||
install-out.txt | 20-Oct-2022 02:20 | 1.3K | ||
install-summary.dcf | 20-Oct-2022 02:20 | 255 | ||