Name | Last modified | Size | Description | |
---|---|---|---|---|
Parent Directory | - | |||
install-summary.dcf | 19-Mar-2022 00:07 | 282 | ||
install-out.txt | 19-Mar-2022 00:07 | 2.5K | ||
checksrc-summary.dcf | 19-Mar-2022 00:07 | 475 | ||
checksrc-out.txt | 19-Mar-2022 00:07 | 3.8K | ||
buildsrc-summary.dcf | 19-Mar-2022 00:07 | 480 | ||
buildsrc-out.txt | 19-Mar-2022 00:07 | 1.1K | ||
buildbin-summary.dcf | 19-Mar-2022 00:07 | 558 | ||
buildbin-out.txt | 19-Mar-2022 00:07 | 2.6K | ||