Name | Last modified | Size | Description | |
---|---|---|---|---|
Parent Directory | - | |||
install-summary.dcf | 19-Mar-2022 00:07 | 273 | ||
install-out.txt | 19-Mar-2022 00:07 | 2.0K | ||
checksrc-summary.dcf | 19-Mar-2022 00:07 | 460 | ||
checksrc-out.txt | 19-Mar-2022 00:07 | 3.7K | ||
buildsrc-summary.dcf | 19-Mar-2022 00:07 | 462 | ||
buildsrc-out.txt | 19-Mar-2022 00:07 | 839 | ||
buildbin-summary.dcf | 19-Mar-2022 00:07 | 530 | ||
buildbin-out.txt | 19-Mar-2022 00:07 | 2.0K | ||