Name | Last modified | Size | Description | |
---|---|---|---|---|
Parent Directory | - | |||
buildbin-out.txt | 20-Oct-2022 02:21 | 1.1K | ||
buildbin-summary.dcf | 20-Oct-2022 02:21 | 530 | ||
buildsrc-out.txt | 20-Oct-2022 02:21 | 839 | ||
buildsrc-summary.dcf | 20-Oct-2022 02:21 | 461 | ||
checksrc-out.txt | 20-Oct-2022 02:21 | 3.4K | ||
checksrc-summary.dcf | 20-Oct-2022 02:21 | 463 | ||
install-out.txt | 20-Oct-2022 02:21 | 1.0K | ||
install-summary.dcf | 20-Oct-2022 02:21 | 273 | ||