Name | Last modified | Size | Description | |
---|---|---|---|---|
Parent Directory | - | |||
buildbin-summary.dcf | 20-Oct-2022 02:21 | 494 | ||
buildbin-out.txt | 20-Oct-2022 02:21 | 1.0K | ||
checksrc-summary.dcf | 20-Oct-2022 02:21 | 433 | ||
checksrc-out.txt | 20-Oct-2022 02:21 | 3.0K | ||
buildsrc-summary.dcf | 20-Oct-2022 02:21 | 439 | ||
buildsrc-out.txt | 20-Oct-2022 02:21 | 860 | ||
install-summary.dcf | 20-Oct-2022 02:21 | 261 | ||
install-out.txt | 20-Oct-2022 02:21 | 953 | ||