Name | Last modified | Size | Description | |
---|---|---|---|---|
Parent Directory | - | |||
checksrc-out.txt | 20-Oct-2022 02:20 | 3.0K | ||
checksrc-summary.dcf | 20-Oct-2022 02:20 | 410 | ||
buildsrc-summary.dcf | 20-Oct-2022 02:20 | 406 | ||
buildsrc-out.txt | 20-Oct-2022 02:20 | 833 | ||
install-summary.dcf | 20-Oct-2022 02:20 | 252 | ||
install-out.txt | 20-Oct-2022 02:20 | 938 | ||