Name | Last modified | Size | Description | |
---|---|---|---|---|
Parent Directory | - | |||
install-out.txt | 20-Oct-2022 02:22 | 1.0K | ||
install-summary.dcf | 20-Oct-2022 02:22 | 264 | ||
buildsrc-out.txt | 20-Oct-2022 02:22 | 870 | ||
buildsrc-summary.dcf | 20-Oct-2022 02:22 | 419 | ||
checksrc-out.txt | 20-Oct-2022 02:22 | 7.2K | ||
checksrc-summary.dcf | 20-Oct-2022 02:22 | 434 | ||
buildbin-out.txt | 20-Oct-2022 02:22 | 1.1K | ||
buildbin-summary.dcf | 20-Oct-2022 02:22 | 515 | ||