Name | Last modified | Size | Description | |
---|---|---|---|---|
Parent Directory | - | |||
buildbin-summary.dcf | 20-Oct-2022 02:22 | 542 | ||
buildbin-out.txt | 20-Oct-2022 02:22 | 1.2K | ||
checksrc-summary.dcf | 20-Oct-2022 02:22 | 452 | ||
checksrc-out.txt | 20-Oct-2022 02:22 | 3.6K | ||
buildsrc-summary.dcf | 20-Oct-2022 02:22 | 434 | ||
buildsrc-out.txt | 20-Oct-2022 02:22 | 824 | ||
install-summary.dcf | 20-Oct-2022 02:22 | 273 | ||
install-out.txt | 20-Oct-2022 02:22 | 1.0K | ||